BEGIN:VCALENDAR
VERSION:2.0
PRODID:-//ChamberMaster//Event Calendar 2.0//EN
METHOD:PUBLISH
X-PUBLISHED-TTL:P3D
REFRESH-INTERVAL:P3D
CALSCALE:GREGORIAN
BEGIN:VEVENT
DTSTART:20220206T180000Z
DTEND:20220206T220000Z
X-MICROSOFT-CDO-ALLDAYEVENT:FALSE
SUMMARY:LCCA Photo Club's Snapshot of Lake City
DESCRIPTION:Photo Club's Snapshot of Lake City opens January 22\, 2022 Saturdays 12-4PM and Sundays 1-4PM. This photograph encapsulates Lake City in the current time. \n\nPlease come enjoy this collaboration of exhibits from the Lake City Photography Club.   This is only the beginning of Lake City's 150th Celebrations.  Reception will be held Sunday 1/23/22 from 1-4 PM with a photography club panel to lead discussion about the photo exhibit.  \n\nExhibit will close 2/27/22.
X-ALT-DESC;FMTTYPE=text/html:<strong><em><span style="color:#050505\;"><span style="font-family:arial\,sans-serif\;"><span style="font-size:10.0pt\;">Photo Club&#39\;s Snapshot of Lake City</span></span></span></em></strong><em><span style="color:#050505\;"><span style="font-family:arial\,sans-serif\;"><span style="font-size:10.0pt\;"> opens January 22\, 2022 Saturdays 12-4PM and Sundays 1-4PM. This photograph encapsulates Lake City in the current time.&nbsp\;</span></span></span></em><br />\n<em><span style="color:#050505\;"><span style="font-family:arial\,sans-serif\;"><span style="font-size:10.0pt\;">Please come enjoy this collaboration of exhibits from the Lake City Photography Club. &nbsp\; This is only the beginning of Lake City&#39\;s 150th Celebrations.&nbsp\; Reception will be held Sunday 1/23/22 from 1-4 PM with a photography club panel to lead discussion about the photo exhibit.&nbsp\;&nbsp\;</span></span></span></em><br />\n<em><span style="color:#050505\;"><span style="font-family:arial\,sans-serif\;"><span style="font-size:10.0pt\;">Exhibit will close 2/27/22.</span></span></span></em>
LOCATION:Lake City Area Arts 101 West Center Street Lake City\, MN 55041
UID:e.621.8537
SEQUENCE:3
DTSTAMP:20260422T191817Z
URL:https://public.lakecity.org/events/details/lcca-photo-club-s-snapshot-of-lake-city-02-06-2022-8537
END:VEVENT

END:VCALENDAR
