BEGIN:VCALENDAR
VERSION:2.0
PRODID:-//ChamberMaster//Event Calendar 2.0//EN
METHOD:PUBLISH
X-PUBLISHED-TTL:P3D
REFRESH-INTERVAL:P3D
CALSCALE:GREGORIAN
BEGIN:VEVENT
DTSTART:20170210T003000Z
DTEND:20170210T013000Z
X-MICROSOFT-CDO-ALLDAYEVENT:FALSE
SUMMARY:Let's Make a Mini Book!
DESCRIPTION:Join us in making a fun mini book. All materials provided. This event is for all ages\; however\, registration is required\, and children under 5 must bring an adult helper.
X-ALT-DESC;FMTTYPE=text/html:Join us in making a fun mini book. All materials provided. This event is for all ages\; however\, registration is required\, and children under 5 must bring an adult helper.
LOCATION:Lake City Public Library
UID:e.621.5667
SEQUENCE:3
DTSTAMP:20260422T055523Z
URL:https://public.lakecity.org/events/details/let-s-make-a-mini-book-5667
END:VEVENT

END:VCALENDAR
