BEGIN:VCALENDAR
VERSION:2.0
PRODID:-//ChamberMaster//Event Calendar 2.0//EN
METHOD:PUBLISH
X-PUBLISHED-TTL:P3D
REFRESH-INTERVAL:P3D
CALSCALE:GREGORIAN
BEGIN:VEVENT
DTSTART:20170222T003000Z
DTEND:20170222T013000Z
X-MICROSOFT-CDO-ALLDAYEVENT:FALSE
SUMMARY:Lincoln High School Debate
DESCRIPTION:Lincoln High School students from Lake City will debate the following topic: when would it be better to live: now or in the 1870s?
X-ALT-DESC;FMTTYPE=text/html:Lincoln High School students from Lake City will debate the following topic: when would it be better to live: now or in the 1870s?
LOCATION:Lake City Public Library
UID:e.621.5672
SEQUENCE:3
DTSTAMP:20260422T055618Z
URL:https://public.lakecity.org/events/details/lincoln-high-school-debate-5672
END:VEVENT

END:VCALENDAR
