BEGIN:VCALENDAR
VERSION:2.0
PRODID:-//ChamberMaster//Event Calendar 2.0//EN
METHOD:PUBLISH
X-PUBLISHED-TTL:P3D
REFRESH-INTERVAL:P3D
CALSCALE:GREGORIAN
BEGIN:VEVENT
DTSTART:20140929T120000Z
DTEND:20140929T230000Z
X-MICROSOFT-CDO-ALLDAYEVENT:FALSE
SUMMARY:Linen Sale at Care Center Activity Room
DESCRIPTION:Mayo Clinic Health System - Lake City Auxiliary\n\nLinen Sale
X-ALT-DESC;FMTTYPE=text/html:Mayo Clinic Health System - Lake City Auxiliary<br />\nLinen Sale
LOCATION:Care Center Activity Room Mayo Clinic Health System - Lake City
UID:e.621.4263
SEQUENCE:3
DTSTAMP:20260425T125026Z
URL:https://public.lakecity.org/events/details/linen-sale-at-care-center-activity-room-09-29-2014-4263
END:VEVENT

END:VCALENDAR
