BEGIN:VCALENDAR
VERSION:2.0
PRODID:-//ChamberMaster//Event Calendar 2.0//EN
METHOD:PUBLISH
X-PUBLISHED-TTL:P3D
REFRESH-INTERVAL:P3D
CALSCALE:GREGORIAN
BEGIN:VEVENT
DTSTART:20140930T120000Z
DTEND:20140930T210000Z
X-MICROSOFT-CDO-ALLDAYEVENT:FALSE
SUMMARY:Linen Sale at Care Center Activity Room
DESCRIPTION:Mayo Clinic Health System - Lake City Auxiliary\n\nLinen Sale
X-ALT-DESC;FMTTYPE=text/html:Mayo Clinic Health System - Lake City Auxiliary<br />\nLinen Sale
LOCATION:Care Center Activity Room Mayo Clinic Health System - Lake City
UID:e.621.4264
SEQUENCE:3
DTSTAMP:20260425T143157Z
URL:https://public.lakecity.org/events/details/linen-sale-at-care-center-activity-room-09-30-2014-4264
END:VEVENT

END:VCALENDAR
