BEGIN:VCALENDAR
VERSION:2.0
PRODID:-//ChamberMaster//Event Calendar 2.0//EN
METHOD:PUBLISH
X-PUBLISHED-TTL:P3D
REFRESH-INTERVAL:P3D
CALSCALE:GREGORIAN
BEGIN:VEVENT
DTSTART:20170202T180000Z
DTEND:20170202T190000Z
X-MICROSOFT-CDO-ALLDAYEVENT:FALSE
SUMMARY:LinkedIn Seminar
DESCRIPTION:Join us for our LinkedIn seminar\, Getting the Most Out of a Powerful Business Oriented Platform.  Presented by Lisa Babington\, Lake City EDA Director.\n\n \n\nBring your bag lunch and learn about LinkedIn's features and functionalities.
X-ALT-DESC;FMTTYPE=text/html:<div _mce_style="font-size: 10pt\; color: #a20000\;" style="font-family: Arial\, Helvetica\, sans-serif\; font-size: 10pt\; color: rgb(162\, 0\, 0)\;"><span _mce_style="font-size: 12pt\; color: #000000\;" style="font-size: 12pt\; color: rgb(0\, 0\, 0)\;">Join us&nbsp\;for our LinkedIn seminar\, G</span><span _mce_style="font-size: 12pt\; color: #000000\;" style="font-size: 12pt\; color: rgb(0\, 0\, 0)\;">etting the Most Out of a Powerful Business Oriented Platform. &nbsp\;</span><span _mce_style="font-size: 12pt\; color: #000000\;" style="font-size: 12pt\; color: rgb(0\, 0\, 0)\;">Presented by Lisa Babington\, Lake City EDA Director.</span></div>\n\n<div style="color: rgb(0\, 0\, 0)\; font-family: Arial\, Helvetica\, sans-serif\; font-size: 16px\;">&nbsp\;</div>\n\n<div style="color: rgb(0\, 0\, 0)\; font-family: Arial\, Helvetica\, sans-serif\; font-size: 16px\;">Bring your bag lunch and learn about LinkedIn&#39\;s features and functionalities.</div>\n
LOCATION:Lake City Chamber of Commerce 101 West Center Street Lake City\, MN 55041
UID:e.621.5658
SEQUENCE:3
DTSTAMP:20260422T070750Z
URL:https://public.lakecity.org/events/details/linkedin-seminar-5658
END:VEVENT

END:VCALENDAR
