BEGIN:VCALENDAR
VERSION:2.0
PRODID:-//ChamberMaster//Event Calendar 2.0//EN
METHOD:PUBLISH
X-PUBLISHED-TTL:P3D
REFRESH-INTERVAL:P3D
CALSCALE:GREGORIAN
BEGIN:VEVENT
DTSTART:20170624T140000Z
DTEND:20170624T190000Z
X-MICROSOFT-CDO-ALLDAYEVENT:FALSE
SUMMARY:Lion's Classic Car Show - Water Ski Days
DESCRIPTION:Lion's Classic Car Show will be held at the Football Field.
X-ALT-DESC;FMTTYPE=text/html:Lion&#39\;s Classic Car Show will be held at the Football Field.
LOCATION:
UID:e.621.5738
SEQUENCE:3
DTSTAMP:20260421T233139Z
URL:https://public.lakecity.org/events/details/lion-s-classic-car-show-water-ski-days-5738
END:VEVENT

END:VCALENDAR
