BEGIN:VCALENDAR
VERSION:2.0
PRODID:-//ChamberMaster//Event Calendar 2.0//EN
METHOD:PUBLISH
X-PUBLISHED-TTL:P3D
REFRESH-INTERVAL:P3D
CALSCALE:GREGORIAN
BEGIN:VEVENT
DTSTART:20160314T233000Z
DTEND:20160315T010000Z
X-MICROSOFT-CDO-ALLDAYEVENT:FALSE
SUMMARY:Lions Meeting
DESCRIPTION:
X-ALT-DESC;FMTTYPE=text/html:
LOCATION:American Legion\, 224 S. Washington St.\, Lake City
UID:e.621.4763
SEQUENCE:3
DTSTAMP:20260424T092914Z
URL:https://public.lakecity.org/events/details/lions-meeting-03-14-2016-4763
END:VEVENT

END:VCALENDAR
