BEGIN:VCALENDAR
VERSION:2.0
PRODID:-//ChamberMaster//Event Calendar 2.0//EN
METHOD:PUBLISH
X-PUBLISHED-TTL:P3D
REFRESH-INTERVAL:P3D
CALSCALE:GREGORIAN
BEGIN:VEVENT
DTSTART:20160320T130000Z
DTEND:20160320T180000Z
X-MICROSOFT-CDO-ALLDAYEVENT:FALSE
SUMMARY:Lions Palm Sunday Brunch
DESCRIPTION:Scrambled eggs\, wild rice sausage\, cheesey potatoes\, muffins\, fruit\, milk\, orange juice\, coffee
X-ALT-DESC;FMTTYPE=text/html:Scrambled eggs\, wild rice sausage\, cheesey potatoes\, muffins\, fruit\, milk\, orange juice\, coffee
LOCATION:St. Mary's of the Lake Catholic Church Lake City
UID:e.621.4785
SEQUENCE:3
DTSTAMP:20260424T085315Z
URL:https://public.lakecity.org/events/details/lions-palm-sunday-brunch-03-20-2016-4785
END:VEVENT

END:VCALENDAR
