BEGIN:VCALENDAR
VERSION:2.0
PRODID:-//ChamberMaster//Event Calendar 2.0//EN
METHOD:PUBLISH
X-PUBLISHED-TTL:P3D
REFRESH-INTERVAL:P3D
CALSCALE:GREGORIAN
BEGIN:VEVENT
DTSTART:20160724T190000Z
DTEND:20160724T203000Z
X-MICROSOFT-CDO-ALLDAYEVENT:FALSE
SUMMARY:Live Music at The Bluffs
DESCRIPTION:Flip Side band concert featuring music from the 50's 60's and 70's. Refreshments served.
X-ALT-DESC;FMTTYPE=text/html:Flip Side band concert featuring music from the 50&#39\;s 60&#39\;s and 70&#39\;s. Refreshments served.
LOCATION:The Bluffs Senior Living Center at 480 West Grant Street\, Lake City.
UID:e.621.5413
SEQUENCE:3
DTSTAMP:20260422T155322Z
URL:https://public.lakecity.org/events/details/live-music-at-the-bluffs-07-24-2016-5413
END:VEVENT

END:VCALENDAR
