BEGIN:VCALENDAR
VERSION:2.0
PRODID:-//ChamberMaster//Event Calendar 2.0//EN
METHOD:PUBLISH
X-PUBLISHED-TTL:P3D
REFRESH-INTERVAL:P3D
CALSCALE:GREGORIAN
BEGIN:VEVENT
DTSTART:20150822T230000Z
DTEND:20150823T000000Z
X-MICROSOFT-CDO-ALLDAYEVENT:FALSE
SUMMARY:Live Timber Rattlesnake
DESCRIPTION:Yes\, there are timber rattlesnakes in the blufflands of southeast Minnesota. How dangerous are they? How can we share area trails without risk to us or this threatened species? Meet Sara Holger\, Park Naturalist from Whitewater State Park\, to get answers to your questions and see a live timber rattlesnake. Brochures will be available. Bring your camera! This program is hosted by the Frontenac State Park Association.
X-ALT-DESC;FMTTYPE=text/html:Yes\, there are timber rattlesnakes in the blufflands of southeast Minnesota. How dangerous are they? How can we share area trails without risk to us or this threatened species? Meet Sara Holger\, Park Naturalist from Whitewater State Park\, to get answers to your questions and see a live timber rattlesnake. Brochures will be available. Bring your camera! This program is hosted by the Frontenac State Park Association.
LOCATION:Frontenac State Park\, Picnic Shelter
UID:e.621.4486
SEQUENCE:3
DTSTAMP:20260424T200613Z
URL:https://public.lakecity.org/events/details/live-timber-rattlesnake-08-22-2015-4486
END:VEVENT

END:VCALENDAR
