BEGIN:VCALENDAR
VERSION:2.0
PRODID:-//ChamberMaster//Event Calendar 2.0//EN
METHOD:PUBLISH
X-PUBLISHED-TTL:P3D
REFRESH-INTERVAL:P3D
CALSCALE:GREGORIAN
BEGIN:VEVENT
DTSTART:20140105T193000Z
DTEND:20140105T213000Z
X-MICROSOFT-CDO-ALLDAYEVENT:FALSE
SUMMARY:Local History Presentation
DESCRIPTION:A History Presentation:\n\n	\n		Lake Pepin Half-Breed Tract by Katie Himanga\n	\n		A History of Old Frontenac by Bill Webster\n\nCo-sponsored by Friends of Florence Town Hall and Villa Maria Retreat & Conference Center
X-ALT-DESC;FMTTYPE=text/html:<strong>A History Presentation:</strong>\n<ul>\n	<li>\n		<strong>Lake Pepin Half-Breed Tract</strong><em>&nbsp\;by Katie Himanga</em></li>\n	<li>\n		<strong>A History of Old Frontenac</strong><em>&nbsp\;by Bill Webster</em></li>\n</ul>\nCo-sponsored by Friends of Florence Town Hall and Villa Maria Retreat &amp\; Conference Center
LOCATION:Villa Maria Retreat Center 29847 County 2 BLVD Frontenac\, MN 55026
UID:e.621.3423
SEQUENCE:3
DTSTAMP:20260426T030630Z
URL:https://public.lakecity.org/events/details/local-history-presentation-01-05-2014-3423
END:VEVENT

END:VCALENDAR
