BEGIN:VCALENDAR
VERSION:2.0
PRODID:-//ChamberMaster//Event Calendar 2.0//EN
METHOD:PUBLISH
X-PUBLISHED-TTL:P3D
REFRESH-INTERVAL:P3D
CALSCALE:GREGORIAN
BEGIN:VEVENT
DTSTART:20150827T210000Z
DTEND:20150924T160000Z
X-MICROSOFT-CDO-ALLDAYEVENT:FALSE
SUMMARY:Loving Lake Pepin Art Exhibit
DESCRIPTION:Original paintings created by local artists. 10% of all sales will be donated to the Lake City Library renovation fund.
X-ALT-DESC;FMTTYPE=text/html:Original paintings created by local artists. 10% of all sales will be donated to the Lake City Library renovation fund.
LOCATION:Lake City Marina
UID:e.621.4488
SEQUENCE:3
DTSTAMP:20260424T183431Z
URL:https://public.lakecity.org/events/details/loving-lake-pepin-art-exhibit-08-27-2015-4488
END:VEVENT

END:VCALENDAR
