BEGIN:VCALENDAR
VERSION:2.0
PRODID:-//ChamberMaster//Event Calendar 2.0//EN
METHOD:PUBLISH
X-PUBLISHED-TTL:P3D
REFRESH-INTERVAL:P3D
CALSCALE:GREGORIAN
BEGIN:VEVENT
DTSTART;VALUE=DATE:20150301
DTEND;VALUE=DATE:20150401
TRANSP:TRANSPARENT
X-MICROSOFT-CDO-ALLDAYEVENT:TRUE
SUMMARY:Luck of the Draw
DESCRIPTION:Retailers are painting the town green!!!  Look for green to find the participating businesses.  Each business will be celebrating in their own way like: drawings\, prizes\, or free gifts!!!
X-ALT-DESC;FMTTYPE=text/html:Retailers are painting the town green!!!&nbsp\; Look for green to find the participating businesses.&nbsp\; Each business will be celebrating in their own way like: drawings\, prizes\, or free gifts!!!
LOCATION:
UID:e.621.4364
SEQUENCE:3
DTSTAMP:20260425T032950Z
URL:https://public.lakecity.org/events/details/luck-of-the-draw-03-01-2015-4364
END:VEVENT

END:VCALENDAR
