BEGIN:VCALENDAR
VERSION:2.0
PRODID:-//ChamberMaster//Event Calendar 2.0//EN
METHOD:PUBLISH
X-PUBLISHED-TTL:P3D
REFRESH-INTERVAL:P3D
CALSCALE:GREGORIAN
BEGIN:VEVENT
DTSTART:20250922T163000Z
DTEND:20250922T180000Z
X-MICROSOFT-CDO-ALLDAYEVENT:FALSE
SUMMARY:Lunch & Learn: Criminal Prevention Through Environmental Design
DESCRIPTION:Secure Your Space: Criminal Prevention Through Environmental Design\nDid you know that the way your business or property is designed can help deter crime? Criminal Prevention Through Environmental Design (CPTED) is a proactive approach that uses strategic lighting\, landscaping\, and layout to reduce criminal activity and enhance safety.  join us for this Lunch & Learn sesion to discover how simple design choices can protect your employees\, customers\, and assets while creating a more secure environment.  Don't miss this opportunity to learn how thoughtful design can be your first line of defense- register today!\n\n\n\nPresented by: Rochley Gross\, Fraud Specialist\, Forward Bank
X-ALT-DESC;FMTTYPE=text/html:<h2><span style="font-size: 16px\;"><b>Secure Your Space: Criminal Prevention Through Environmental Design</b></span></h2>\nDid you know that the way your business or property is designed can help deter crime? Criminal Prevention Through Environmental Design (CPTED) is a proactive approach that uses strategic lighting\, landscaping\, and layout to reduce criminal activity and enhance safety.&nbsp\; join us for this Lunch &amp\; Learn sesion to discover how simple design choices can protect your employees\, customers\, and assets while creating a more secure environment.&nbsp\; Don&#39\;t miss this opportunity to learn how thoughtful design can be your first line of defense- register today!<br />\n<br />\nPresented by: Rochley Gross\, Fraud Specialist\, Forward Bank
LOCATION:AmericInn Conference Room 1615 N. Lakeshore Dr. Lake City\, MN 55041
UID:e.621.10148
SEQUENCE:3
DTSTAMP:20260421T101202Z
URL:https://public.lakecity.org/events/details/lunch-learn-criminal-prevention-through-environmental-design-10148
END:VEVENT

END:VCALENDAR
