BEGIN:VCALENDAR
VERSION:2.0
PRODID:-//ChamberMaster//Event Calendar 2.0//EN
METHOD:PUBLISH
X-PUBLISHED-TTL:P3D
REFRESH-INTERVAL:P3D
CALSCALE:GREGORIAN
BEGIN:VEVENT
DTSTART:20170224T003000Z
DTEND:20170224T013000Z
X-MICROSOFT-CDO-ALLDAYEVENT:FALSE
SUMMARY:Make a Pioneer Ragdoll
DESCRIPTION:Join us for a fun\, no-sew activity. This event is for all ages\; however\, registration is required\, and children under 5 must bring an adult helper.
X-ALT-DESC;FMTTYPE=text/html:Join us for a fun\, no-sew activity. This event is for all ages\; however\, registration is required\, and children under 5 must bring an adult helper.
LOCATION:Lake City Public Library
UID:e.621.5673
SEQUENCE:3
DTSTAMP:20260422T055638Z
URL:https://public.lakecity.org/events/details/make-a-pioneer-ragdoll-5673
END:VEVENT

END:VCALENDAR
