BEGIN:VCALENDAR
VERSION:2.0
PRODID:-//ChamberMaster//Event Calendar 2.0//EN
METHOD:PUBLISH
X-PUBLISHED-TTL:P3D
REFRESH-INTERVAL:P3D
CALSCALE:GREGORIAN
BEGIN:VEVENT
DTSTART;VALUE=DATE:20151026
DTEND;VALUE=DATE:20151231
TRANSP:TRANSPARENT
X-MICROSOFT-CDO-ALLDAYEVENT:TRUE
SUMMARY:Manufacturer's Week
DESCRIPTION:To recognize the importance of manufacturing to the state's economy\, the Minnesota Department of Employment and Economic Development\, the Minnesota Chamber of Commerce\,and the Minnesota Precision Manufacturing Association and the Minnesota Manufacturers Coalition sponsor  Minnesota Manufacturers Week.\n\nManufacturers Week helps to raise public awareness of manufacturing\, highlights the impact in our own communities and regions\, and honors area manufacturers.
X-ALT-DESC;FMTTYPE=text/html:<div>\n<p>To recognize the importance of manufacturing to the state&rsquo\;s economy\, the Minnesota Department of Employment and Economic Development\, the <a href="http://www.mnchamber.com/" target="_blank">Minnesota Chamber of Commerce</a>\,and the <a href="http://www.mpma.com/" target="_blank">Minnesota Precision Manufacturing Association </a>and the Minnesota Manufacturers Coalition&nbsp\;sponsor &nbsp\;Minnesota Manufacturers Week.</p>\n\n<p>Manufacturers Week&nbsp\;helps to raise public awareness of manufacturing\, highlights the impact in our own communities and regions\, and honors area manufacturers.</p>\n</div>\n
LOCATION:
UID:e.621.2602
SEQUENCE:3
DTSTAMP:20260424T134101Z
URL:https://public.lakecity.org/events/details/manufacturer-s-week-10-26-2015-2602
END:VEVENT

END:VCALENDAR
