BEGIN:VCALENDAR
VERSION:2.0
PRODID:-//ChamberMaster//Event Calendar 2.0//EN
METHOD:PUBLISH
X-PUBLISHED-TTL:P3D
REFRESH-INTERVAL:P3D
CALSCALE:GREGORIAN
BEGIN:VEVENT
DTSTART:20141024T160000Z
DTEND:20141024T163000Z
X-MICROSOFT-CDO-ALLDAYEVENT:FALSE
SUMMARY:Manufacturer's Week Tour of Pepin Manufacturing
DESCRIPTION:Congratulations to our 2014 Lake City Manufacturer of the Year\, Pepin Manufacturing!\n\n\n\nThe public is invited on a tour of this fascinating company. Space is limited\, so please make a reservation by calling the Chamber of Commerce at 651-345-4123.\n\n\n\nLearn more about Pepin Manufacturing here!
X-ALT-DESC;FMTTYPE=text/html:Congratulations to our 2014 Lake City Manufacturer of the Year\, Pepin Manufacturing!<br />\n<br />\nThe public is invited on a tour of this fascinating company. Space is limited\, so please make a reservation by calling the Chamber of Commerce at 651-345-4123.<br />\n<br />\nLearn more about Pepin Manufacturing&nbsp\;<a href="http://www.pepinmfg.com/">here!</a>
LOCATION:Pepin Manufacturing 1875 S. Highway 61 Lake City
UID:e.621.3397
SEQUENCE:3
DTSTAMP:20260425T113433Z
URL:https://public.lakecity.org/events/details/manufacturer-s-week-tour-of-pepin-manufacturing-10-24-2014-3397
END:VEVENT

END:VCALENDAR
