BEGIN:VCALENDAR
VERSION:2.0
PRODID:-//ChamberMaster//Event Calendar 2.0//EN
METHOD:PUBLISH
X-PUBLISHED-TTL:P3D
REFRESH-INTERVAL:P3D
CALSCALE:GREGORIAN
BEGIN:VEVENT
DTSTART:20150526T123000Z
DTEND:20150527T020000Z
X-MICROSOFT-CDO-ALLDAYEVENT:FALSE
SUMMARY:May Business Before Hours
DESCRIPTION:Join the Chamber of Commerce for Business Before Hours sponsored by the American Family Insurance Jessica Nelson Agency.  Click to register.  Hope to see you there!
X-ALT-DESC;FMTTYPE=text/html:Join the Chamber of Commerce for Business Before Hours sponsored by the American Family Insurance Jessica Nelson Agency.&nbsp\; Click to register.&nbsp\; Hope to see you there!
LOCATION:
UID:e.621.4397
SEQUENCE:3
DTSTAMP:20260425T002408Z
URL:https://public.lakecity.org/events/details/may-business-before-hours-05-26-2015-4397
END:VEVENT

END:VCALENDAR
