BEGIN:VCALENDAR
VERSION:2.0
PRODID:-//ChamberMaster//Event Calendar 2.0//EN
METHOD:PUBLISH
X-PUBLISHED-TTL:P3D
REFRESH-INTERVAL:P3D
CALSCALE:GREGORIAN
BEGIN:VEVENT
DTSTART:20170522T223000Z
DTEND:20170523T003000Z
X-MICROSOFT-CDO-ALLDAYEVENT:FALSE
SUMMARY:Meet in the Middle: Business After Hours with Red Wing
DESCRIPTION:Please join us for a "Meet-in-the-Middle" Business After Hours networking event with the Red Wing Chamber of Commerce. Enjoy networking with fellow Chamber members over a pasta buffet\, drinks\, games\, and prizes. This event is sponsored by Mount Frontenac Golf Course\, Xcel Energy\, and Treasure Island Resort and Casino.
X-ALT-DESC;FMTTYPE=text/html:<span style="color: rgb(128\, 128\, 128)\; font-family: Arial\, Helvetica\, sans-serif\; font-size: 12px\; background-color: rgb(250\, 250\, 250)\;">Please join us for a &quot\;Meet-in-the-Middle&quot\; Business After Hours networking event with the Red Wing Chamber of Commerce. Enjoy networking with fellow Chamber members over a pasta buffet\, drinks\, games\, and prizes. This event is sponsored by Mount Frontenac Golf Course\, Xcel Energy\, and Treasure Island Resort and Casino.</span>
LOCATION:Mount Frontenac Golf Course 32429 Ski Rd. Frontenac\, MN 55026
UID:e.621.5728
SEQUENCE:3
DTSTAMP:20260422T011437Z
URL:https://public.lakecity.org/events/details/meet-in-the-middle-business-after-hours-with-red-wing-5728
END:VEVENT

END:VCALENDAR
