BEGIN:VCALENDAR
VERSION:2.0
PRODID:-//ChamberMaster//Event Calendar 2.0//EN
METHOD:PUBLISH
X-PUBLISHED-TTL:P3D
REFRESH-INTERVAL:P3D
CALSCALE:GREGORIAN
BEGIN:VEVENT
DTSTART:20230509T220000Z
DTEND:20230510T000000Z
X-MICROSOFT-CDO-ALLDAYEVENT:FALSE
SUMMARY:Meet in the Middle with Red Wing Chamber
DESCRIPTION:Meet in the Middle with Red Wing Chamber at Mount Frontenac Golf Course
X-ALT-DESC;FMTTYPE=text/html:<span style="font-family:tahoma\;"><strong>Meet in the Middle with Red Wing Chamber at Mount Frontenac Golf Course&nbsp\;&nbsp\;&nbsp\;&nbsp\;</strong></span>
LOCATION:Mount Frontenac Golf Course 32420 Ski Road Frontenac\, MN 55026
UID:e.621.7599
SEQUENCE:3
DTSTAMP:20260421T134003Z
URL:https://public.lakecity.org/events/details/meet-in-the-middle-with-red-wing-chamber-7599
END:VEVENT

END:VCALENDAR
