BEGIN:VCALENDAR
VERSION:2.0
PRODID:-//ChamberMaster//Event Calendar 2.0//EN
METHOD:PUBLISH
X-PUBLISHED-TTL:P3D
REFRESH-INTERVAL:P3D
CALSCALE:GREGORIAN
BEGIN:VEVENT
DTSTART:20161018T233000Z
DTEND:20161019T010000Z
X-MICROSOFT-CDO-ALLDAYEVENT:FALSE
SUMMARY:Meet the Candidates Forum & Reception
DESCRIPTION:Meet the Candidates Forum followed by a Meet & Greet Reception.\n\n\n\nCo-Sponsored by the Woman's Club of Lake City & The Lake City Chamber of Commerce.
X-ALT-DESC;FMTTYPE=text/html:Meet the Candidates Forum followed by a Meet &amp\; Greet Reception.<br />\n<br />\nCo-Sponsored by the Woman&#39\;s Club of Lake City &amp\; The Lake City Chamber of Commerce.
LOCATION:Meet the Candidates Forum in Council Chambers. Meet & Greet Reception in the Ballroom.
UID:e.621.2459
SEQUENCE:3
DTSTAMP:20260422T115144Z
URL:https://public.lakecity.org/events/details/meet-the-candidates-forum-reception-10-14-2010-2459
END:VEVENT

END:VCALENDAR
