BEGIN:VCALENDAR
VERSION:2.0
PRODID:-//ChamberMaster//Event Calendar 2.0//EN
METHOD:PUBLISH
X-PUBLISHED-TTL:P3D
REFRESH-INTERVAL:P3D
CALSCALE:GREGORIAN
BEGIN:VEVENT
DTSTART:20140526T180000Z
DTEND:20140526T210000Z
X-MICROSOFT-CDO-ALLDAYEVENT:FALSE
SUMMARY:Memorial Day Cemetery Tour
DESCRIPTION:8th annual Lake City Historical Society Memorial Day Cemetery Tour\n\nCostumed characters portray seven notable people from Lake City's history including MC Russell\, a pioneer newspaper editor\, Martin Collins\, owner of Collins Drugs.
X-ALT-DESC;FMTTYPE=text/html:8th annual Lake City Historical Society Memorial Day Cemetery Tour<br />\nCostumed characters portray seven notable people from Lake City&#39\;s history including MC Russell\, a pioneer newspaper editor\, Martin Collins\, owner of Collins Drugs.
LOCATION:Lakewood Cemetery\, Section B Lake City\, MN About 1 mile SW of US Hwy. 61 on Lakewood Ave.
UID:e.621.4028
SEQUENCE:3
DTSTAMP:20260425T191818Z
URL:https://public.lakecity.org/events/details/memorial-day-cemetery-tour-05-26-2014-4028
END:VEVENT

END:VCALENDAR
