BEGIN:VCALENDAR
VERSION:2.0
PRODID:-//ChamberMaster//Event Calendar 2.0//EN
METHOD:PUBLISH
X-PUBLISHED-TTL:P3D
REFRESH-INTERVAL:P3D
CALSCALE:GREGORIAN
BEGIN:VEVENT
DTSTART:20151205T180000Z
DTEND:20160101T180000Z
X-MICROSOFT-CDO-ALLDAYEVENT:FALSE
SUMMARY:Michael Augustin\, Master of Sand Painting
DESCRIPTION:Michael Augustin\, known worldwide master of sand painting\, will create and display a unique painting of Mary. Michael Augustin\, an artist with roots in MN\, has been practicing the art of sand painting for nearly thirty years. He weaves the rich\, natural colors and textures of earth and creates images that speak to the heart and stirs the soul.
X-ALT-DESC;FMTTYPE=text/html:Michael Augustin\, known worldwide master of sand painting\, will create and display a unique painting of Mary. Michael Augustin\, an artist with roots in MN\, has been practicing the art of sand painting for nearly thirty years. He weaves the rich\, natural colors and textures of earth and creates images that speak to the heart and stirs the soul.
LOCATION:St. Mary of the Lake Catholic Church\, Lake City.
UID:e.621.4530
SEQUENCE:3
DTSTAMP:20260424T122339Z
URL:https://public.lakecity.org/events/details/michael-augustin-master-of-sand-painting-12-05-2015-4530
END:VEVENT

END:VCALENDAR
