BEGIN:VCALENDAR
VERSION:2.0
PRODID:-//ChamberMaster//Event Calendar 2.0//EN
METHOD:PUBLISH
X-PUBLISHED-TTL:P3D
REFRESH-INTERVAL:P3D
CALSCALE:GREGORIAN
BEGIN:VEVENT
DTSTART:20150704T173000Z
DTEND:20150704T203000Z
X-MICROSOFT-CDO-ALLDAYEVENT:FALSE
SUMMARY:MinnAqua Pop-Can Fishing Program
DESCRIPTION:Learn how to tie a fishing knot\, make your own pop-can fishing rig and try to catch a fish with the MN DNR MinnAqua Program! This is a family-friendly program - parents are required to attend. All participants can fish without a fishing license during the program. Catch & release only. Please bring an empty\, clean pop can with the tab attached for each participant. The MN DNR MinnAqua Program will provide everything else. Registration required: 651-345-3401 or stop at the ranger station - limit 20 participants.
X-ALT-DESC;FMTTYPE=text/html:Learn how to tie a fishing knot\, make your own pop-can fishing rig and try to catch a fish with the MN DNR MinnAqua Program! This is a family-friendly program - parents are required to attend. All participants can fish without a fishing license during the program. Catch &amp\; release only. Please bring an empty\, clean pop can with the tab attached for each participant. The MN DNR MinnAqua Program will provide everything else. Registration required: 651-345-3401 or stop at the ranger station - limit 20 participants.
LOCATION:Frontenac State Park - Ranger Station 29223 County Blvd. 28\, Frontenac\, MN 55026 Rain Location: Meet at the Picnic Shelter.
UID:e.621.4460
SEQUENCE:3
DTSTAMP:20260424T213141Z
URL:https://public.lakecity.org/events/details/minnaqua-pop-can-fishing-program-07-04-2015-4460
END:VEVENT

END:VCALENDAR
