BEGIN:VCALENDAR
VERSION:2.0
PRODID:-//ChamberMaster//Event Calendar 2.0//EN
METHOD:PUBLISH
X-PUBLISHED-TTL:P3D
REFRESH-INTERVAL:P3D
CALSCALE:GREGORIAN
BEGIN:VEVENT
DTSTART;VALUE=DATE:20240509
DTEND;VALUE=DATE:20240512
TRANSP:TRANSPARENT
X-MICROSOFT-CDO-ALLDAYEVENT:TRUE
SUMMARY:Minnesota Governor's Fishing Opener
DESCRIPTION:2024 Minnesota Governor's Fishing Opener\n\n\n\nGovernor Tim Walz today announced that Lake City will host the 76th Minnesota Governor's Fishing Opener on May 10-11\, 2024. Explore Minnesota coordinates each year with the Governor's Office\, the Minnesota Department of Natural Resources\, and the host committee to put on the event celebrating Minnesota's rich tourism and fishing opportunities.
X-ALT-DESC;FMTTYPE=text/html:2024 Minnesota Governor&#39\;s Fishing Opener<br />\n<br />\n<span style="color: rgb(35\, 31\, 32)\; font-family: Alata\, sans-serif\; font-size: 17px\; background-color: rgb(245\, 245\, 245)\;">Governor Tim Walz today announced that Lake City will host the 76th Minnesota Governor&rsquo\;s Fishing Opener on May 10-11\, 2024. Explore Minnesota coordinates each year with the Governor&rsquo\;s Office\, the Minnesota Department of Natural Resources\, and the host committee to put on the event celebrating Minnesota&rsquo\;s rich tourism and fishing opportunities.</span>
LOCATION:
UID:e.621.9223
SEQUENCE:3
DTSTAMP:20260421T091739Z
URL:https://public.lakecity.org/events/details/minnesota-governor-s-fishing-opener-9223
END:VEVENT

END:VCALENDAR
