BEGIN:VCALENDAR
VERSION:2.0
PRODID:-//ChamberMaster//Event Calendar 2.0//EN
METHOD:PUBLISH
X-PUBLISHED-TTL:P3D
REFRESH-INTERVAL:P3D
CALSCALE:GREGORIAN
BEGIN:VEVENT
DTSTART:20160331T233000Z
DTEND:20160401T010000Z
X-MICROSOFT-CDO-ALLDAYEVENT:FALSE
SUMMARY:Minnesota Stories in a Changing Climate
DESCRIPTION:How is climate change affecting Minnesota? How can we harness the power of storytelling to motivate climate actions? Join us for a screening of Minnesota Stories in a Changing Climate\, a documentary produced by Twin Cities PBS in partnership with Climate Generation: A Will Steger Legacy. Screening of the 1-hour documentary followed by a discussion of the stories and themes in the film lead by staff from Climate Generation. This program is hosted by the Frontenac State Park Association. Snacks and hot beverages will be provided.
X-ALT-DESC;FMTTYPE=text/html:How is climate change affecting Minnesota? How can we harness the power of storytelling to motivate climate actions? Join us for a screening of Minnesota Stories in a Changing Climate\, a documentary produced by Twin Cities PBS in partnership with Climate Generation: A Will Steger Legacy. Screening of the 1-hour documentary followed by a discussion of the stories and themes in the film lead by staff from Climate Generation. This program is hosted by the Frontenac State Park Association. Snacks and hot beverages will be provided.
LOCATION:Frontenac State Park Picnic Shelter 29223 County 28 Blvd. Frontenac\, MN 55026
UID:e.621.4778
SEQUENCE:3
DTSTAMP:20260424T085150Z
URL:https://public.lakecity.org/events/details/minnesota-stories-in-a-changing-climate-03-31-2016-4778
END:VEVENT

END:VCALENDAR
