BEGIN:VCALENDAR
VERSION:2.0
PRODID:-//ChamberMaster//Event Calendar 2.0//EN
METHOD:PUBLISH
X-PUBLISHED-TTL:P3D
REFRESH-INTERVAL:P3D
CALSCALE:GREGORIAN
BEGIN:VEVENT
DTSTART:20140817T003000Z
DTEND:20140817T030000Z
X-MICROSOFT-CDO-ALLDAYEVENT:FALSE
SUMMARY:Movie by Moonlight
DESCRIPTION:The 7th Annual Movie by Moonlight is an outdoor movie event being organized by Lake City\n\nBetter Futures (LCBF). It will be like having a drive-in movie but without the cars! "Despicable Me 2" will be shown on a 30 by 20 foot screen at Underwood Park in Lake City on Aug. 16\, 2014.\n\nPre-entertainment will begin at 7:30 p.m. The movie will start around 8:30 p.m. Admission will be\n\nfree.\n\nThis year's movie is Madagascar 3: Europe's Most Wanted.\n\nMovie by Moonlight is made possible by our many sponsors\, including our platinum sponsors Ackermann Total Eye Care\, Hansen's Harbor\, Horizon Milling\, LLC\, Lake Hits 95\, Pepin Valley Dental and The Railhouse Grill.
X-ALT-DESC;FMTTYPE=text/html:<p>The 7th Annual Movie by Moonlight is an outdoor movie event being organized by Lake City<br />\nBetter Futures (LCBF). It will be like having a drive-in movie but without the cars! &quot\;Despicable Me 2&quot\; will be shown on a 30 by 20 foot screen at Underwood Park in Lake City on Aug. 16\, 2014.<br />\nPre-entertainment will begin at 7:30 p.m. The movie will start around 8:30 p.m. Admission will be<br />\nfree.</p>\n\n<p>This year&rsquo\;s movie&nbsp\;is <em>Madagascar 3: Europe&#39\;s Most Wanted</em>.</p>\n\n<p>Movie by Moonlight is made possible by our many sponsors\, including our platinum sponsors Ackermann Total Eye Care\, Hansen&rsquo\;s Harbor\, Horizon Milling\, LLC\, Lake Hits 95\, Pepin Valley Dental and The Railhouse Grill.<br />\n&nbsp\;</p>\n
LOCATION:Underwood Park in Lake City (off of 10th Street)
UID:e.621.3140
SEQUENCE:3
DTSTAMP:20260425T142531Z
URL:https://public.lakecity.org/events/details/movie-by-moonlight-08-16-2014-3140
END:VEVENT

END:VCALENDAR
