BEGIN:VCALENDAR
VERSION:2.0
PRODID:-//ChamberMaster//Event Calendar 2.0//EN
METHOD:PUBLISH
X-PUBLISHED-TTL:P3D
REFRESH-INTERVAL:P3D
CALSCALE:GREGORIAN
BEGIN:VEVENT
DTSTART:20170225T160000Z
DTEND:20170225T170000Z
X-MICROSOFT-CDO-ALLDAYEVENT:FALSE
SUMMARY:Multigenerational Book Discussion
DESCRIPTION:Join us for a multi-generational book discussion of this month's Community Reads Little House in the Big Woods.
X-ALT-DESC;FMTTYPE=text/html:Join us for a multi-generational book discussion of this month&#39\;s Community Reads Little House in the Big Woods.
LOCATION:Lake City Public Library
UID:e.621.5674
SEQUENCE:3
DTSTAMP:20260422T055621Z
URL:https://public.lakecity.org/events/details/multigenerational-book-discussion-5674
END:VEVENT

END:VCALENDAR
