BEGIN:VCALENDAR
VERSION:2.0
PRODID:-//ChamberMaster//Event Calendar 2.0//EN
METHOD:PUBLISH
X-PUBLISHED-TTL:P3D
REFRESH-INTERVAL:P3D
CALSCALE:GREGORIAN
BEGIN:VEVENT
DTSTART:20170716T190000Z
DTEND:20170716T200000Z
X-MICROSOFT-CDO-ALLDAYEVENT:FALSE
SUMMARY:Music in the American Civil War
DESCRIPTION:Abigail Hall\, a Senior at Viterbo University\, majoring in Music and History will present Music in the American Civil War\, Developing American Culture
X-ALT-DESC;FMTTYPE=text/html:Abigail Hall\, a Senior at Viterbo University\, majoring in Music and History will present <strong>Music in the American</strong> <strong>Civil War\, Developing American Culture</strong>
LOCATION:Reads Landing School Museum Reads Landing\, MN 55968
UID:e.621.5750
SEQUENCE:3
DTSTAMP:20260421T233119Z
URL:https://public.lakecity.org/events/details/music-in-the-american-civil-war-5750
END:VEVENT

END:VCALENDAR
