BEGIN:VCALENDAR
VERSION:2.0
PRODID:-//ChamberMaster//Event Calendar 2.0//EN
METHOD:PUBLISH
X-PUBLISHED-TTL:P3D
REFRESH-INTERVAL:P3D
CALSCALE:GREGORIAN
BEGIN:VEVENT
DTSTART;VALUE=DATE:20160409
DTEND;VALUE=DATE:20160411
TRANSP:TRANSPARENT
X-MICROSOFT-CDO-ALLDAYEVENT:TRUE
SUMMARY:Music & Light - Reflections on Spirituality
DESCRIPTION:A MUSIC AND LIGHT ART SHOW opens to the public on Saturday April 9th at First Lutheran. Faure's Requiem Concert\, directed by Colleen Fowler\, accompanied by an orchestra\, will be held on Sunday (4/10) at 4PM followed by a reception.
X-ALT-DESC;FMTTYPE=text/html:A MUSIC AND LIGHT ART SHOW opens to the public on Saturday April 9th at First Lutheran. Faure&#39\;s Requiem Concert\, directed by Colleen Fowler\, accompanied by an orchestra\, will be held on Sunday (4/10) at 4PM followed by a reception.
LOCATION:First Lutheran Church Lake City
UID:e.621.4779
SEQUENCE:3
DTSTAMP:20260422T195920Z
URL:https://public.lakecity.org/events/details/music-light-reflections-on-spirituality-04-09-2016-4779
END:VEVENT

END:VCALENDAR
