BEGIN:VCALENDAR
VERSION:2.0
PRODID:-//ChamberMaster//Event Calendar 2.0//EN
METHOD:PUBLISH
X-PUBLISHED-TTL:P3D
REFRESH-INTERVAL:P3D
CALSCALE:GREGORIAN
BEGIN:VEVENT
DTSTART:20150613T140000Z
DTEND:20150613T170000Z
X-MICROSOFT-CDO-ALLDAYEVENT:FALSE
SUMMARY:National Get Outdoor Day
DESCRIPTION:All ages welcome! This is a FREE outdoor event\, please dress appropriately. Bring a full water bottle. There will be activities\, educational programs and prizes! Certain events will have limited space\, arrive at 9 to sign up. Meet you local AIS Coodinator! Aquatic Invasive Species Program Photo Scavenger Hunt Build your own BEE house & More I have a flyer I can send as an attachment
X-ALT-DESC;FMTTYPE=text/html:All ages welcome! This is a FREE outdoor event\, please dress appropriately. Bring a full water bottle. There will be activities\, educational programs and prizes! Certain events will have limited space\, arrive at 9 to sign up. Meet you local AIS Coodinator! Aquatic Invasive Species Program Photo Scavenger Hunt Build your own BEE house &amp\; More I have a flyer I can send as an attachment
LOCATION:Malone Park\, Wabasha MN
UID:e.621.4453
SEQUENCE:3
DTSTAMP:20260424T225620Z
URL:https://public.lakecity.org/events/details/national-get-outdoor-day-06-13-2015-4453
END:VEVENT

END:VCALENDAR
