BEGIN:VCALENDAR
VERSION:2.0
PRODID:-//ChamberMaster//Event Calendar 2.0//EN
METHOD:PUBLISH
X-PUBLISHED-TTL:P3D
REFRESH-INTERVAL:P3D
CALSCALE:GREGORIAN
BEGIN:VEVENT
DTSTART:20180315T233000Z
DTEND:20180316T003000Z
X-MICROSOFT-CDO-ALLDAYEVENT:FALSE
SUMMARY:Natural History of the Boundary Waters Canoe Area Wilderness
DESCRIPTION:Local interpretive naturalist Bruce Ause will share photos and discuss iconic plants\, white pines\, moose\, timber wolves\, loons\, bald eagles\, and other animals and plants found in the Boundary Waters.
X-ALT-DESC;FMTTYPE=text/html:Local interpretive naturalist Bruce Ause will share photos and discuss iconic plants\, white pines\, moose\, timber wolves\, loons\, bald eagles\, and other animals and plants found in the Boundary Waters.
LOCATION:Lake City Public Library
UID:e.621.6838
SEQUENCE:3
DTSTAMP:20260421T084517Z
URL:https://public.lakecity.org/events/details/natural-history-of-the-boundary-waters-canoe-area-wilderness-6838
END:VEVENT

END:VCALENDAR
