BEGIN:VCALENDAR
VERSION:2.0
PRODID:-//ChamberMaster//Event Calendar 2.0//EN
METHOD:PUBLISH
X-PUBLISHED-TTL:P3D
REFRESH-INTERVAL:P3D
CALSCALE:GREGORIAN
BEGIN:VEVENT
DTSTART:20160130T190000Z
DTEND:20160130T230000Z
X-MICROSOFT-CDO-ALLDAYEVENT:FALSE
SUMMARY:NEC Golden Eagle Field Trip
DESCRIPTION:The National Eagle Center offers guided field trips to view bald and golden eagles in the wild. Field trips begin at 1pm with a brief classroom program\, followed by a tour via coach bus to prime bald or golden eagle viewing locations. Participants should dress for the weather and bring binoculars\, spotting scopes and cameras if desired. Little walking is required ? simply step off the bus for a great view!
X-ALT-DESC;FMTTYPE=text/html:The National Eagle Center offers guided field trips to view bald and golden eagles in the wild. Field trips begin at 1pm with a brief classroom program\, followed by a tour via coach bus to prime bald or golden eagle viewing locations. Participants should dress for the weather and bring binoculars\, spotting scopes and cameras if desired. Little walking is required ? simply step off the bus for a great view!
LOCATION:National Eagle Center 50 Pembroke Avenue Wabasha\, MN 55981
UID:e.621.4513
SEQUENCE:3
DTSTAMP:20260424T121858Z
URL:https://public.lakecity.org/events/details/nec-golden-eagle-field-trip-01-30-2016-4513
END:VEVENT

END:VCALENDAR
