BEGIN:VCALENDAR
VERSION:2.0
PRODID:-//ChamberMaster//Event Calendar 2.0//EN
METHOD:PUBLISH
X-PUBLISHED-TTL:P3D
REFRESH-INTERVAL:P3D
CALSCALE:GREGORIAN
BEGIN:VEVENT
DTSTART:20151009T000000Z
DTEND:20151009T020000Z
X-MICROSOFT-CDO-ALLDAYEVENT:FALSE
SUMMARY:OktoberFest 2015
DESCRIPTION:Wabasha County Historical Society\n\npresents OktoberFest 2015\n\nCelebrating the history of brewing beer in Wabasha County
X-ALT-DESC;FMTTYPE=text/html:Wabasha County Historical Society<br />\npresents OktoberFest 2015<br />\nCelebrating the history of brewing beer in Wabasha County
LOCATION:WCHS Museum & Reads Landing Brewing Co. in Reads Landing
UID:e.621.4496
SEQUENCE:3
DTSTAMP:20260424T165721Z
URL:https://public.lakecity.org/events/details/oktoberfest-2015-10-08-2015-4496
END:VEVENT

END:VCALENDAR
