BEGIN:VCALENDAR
VERSION:2.0
PRODID:-//ChamberMaster//Event Calendar 2.0//EN
METHOD:PUBLISH
X-PUBLISHED-TTL:P3D
REFRESH-INTERVAL:P3D
CALSCALE:GREGORIAN
BEGIN:VEVENT
DTSTART:20220723T180000Z
DTEND:20220723T210000Z
X-MICROSOFT-CDO-ALLDAYEVENT:FALSE
SUMMARY:Old Fashioned Grain Shocking Day
DESCRIPTION:Do you remember grain shocking on your Grandpa's farm? We're having an old fashioned grain shocking day at 1pm on Saturday July 23rd at the farm of Marilyn and Dwain Gerken. All are welcome to spectate or participate!\n\nCall Sue Engen at (651) 380-6294 for more info.
X-ALT-DESC;FMTTYPE=text/html:<p style="box-sizing: inherit\; border: 0px\; font-size: var(--tec-font-size-4)\; margin-top: 0px\; margin-right: 0px\; margin-bottom: var(--tec-spacer-3)\; margin-left: 0px\; outline: 0px\; padding: 0px\; vertical-align: baseline\; line-height: var(--tec-line-height-2)\; color: rgb(20\, 24\, 39)\; font-family: &quot\;Helvetica Neue&quot\;\, Helvetica\, -apple-system\, BlinkMacSystemFont\, Roboto\, Arial\, sans-serif\;">Do you remember grain shocking on your Grandpa&rsquo\;s farm? We&rsquo\;re having an old fashioned grain shocking day at 1pm on Saturday July 23rd at the farm of Marilyn and Dwain Gerken. All are welcome to spectate or participate!</p>\n\n<p style="box-sizing: inherit\; border: 0px\; font-size: var(--tec-font-size-4)\; margin-top: 0px\; margin-right: 0px\; margin-bottom: var(--tec-spacer-3)\; margin-left: 0px\; outline: 0px\; padding: 0px\; vertical-align: baseline\; line-height: var(--tec-line-height-2)\; color: rgb(20\, 24\, 39)\; font-family: &quot\;Helvetica Neue&quot\;\, Helvetica\, -apple-system\, BlinkMacSystemFont\, Roboto\, Arial\, sans-serif\;">Call Sue Engen at (651) 380-6294 for more info.</p>\n
LOCATION:64245 355th Ave\, Lake City\, MN 55041 (Lincoln Church Rd)
UID:e.621.9001
SEQUENCE:3
DTSTAMP:20260422T103414Z
URL:https://public.lakecity.org/events/details/old-fashioned-grain-shocking-day-9001
END:VEVENT

END:VCALENDAR
