BEGIN:VCALENDAR
VERSION:2.0
PRODID:-//ChamberMaster//Event Calendar 2.0//EN
METHOD:PUBLISH
X-PUBLISHED-TTL:P3D
REFRESH-INTERVAL:P3D
CALSCALE:GREGORIAN
BEGIN:VEVENT
DTSTART;VALUE=DATE:20150926
DTEND;VALUE=DATE:20150927
TRANSP:TRANSPARENT
X-MICROSOFT-CDO-ALLDAYEVENT:TRUE
SUMMARY:Old Frontenac Festival
DESCRIPTION:Old Frontenac Festival\n\n1880s baseball and walking tours
X-ALT-DESC;FMTTYPE=text/html:Old Frontenac Festival<br />\n1880s baseball and walking tours
LOCATION:Wakondiota Park Old Frontenac
UID:e.621.4502
SEQUENCE:3
DTSTAMP:20260424T183159Z
URL:https://public.lakecity.org/events/details/old-frontenac-festival-09-26-2015-4502
END:VEVENT

END:VCALENDAR
