BEGIN:VCALENDAR
VERSION:2.0
PRODID:-//ChamberMaster//Event Calendar 2.0//EN
METHOD:PUBLISH
X-PUBLISHED-TTL:P3D
REFRESH-INTERVAL:P3D
CALSCALE:GREGORIAN
BEGIN:VEVENT
DTSTART:20171015T170000Z
DTEND:20171015T210000Z
X-MICROSOFT-CDO-ALLDAYEVENT:FALSE
SUMMARY:Open House
DESCRIPTION:Wabasha County Historical Society\, Reads Landing School Museum last day of the season will celebrate with the Annual Meeting at 12 noon\, Open House 1 to 4 p.m. with a presentation " Bridging Generations" by Abigail Hall\, Viterbo University WCHS Summer Intern at 2 p.m.. Treats will be available.
X-ALT-DESC;FMTTYPE=text/html:Wabasha County Historical Society\, Reads Landing School Museum last day of the season will celebrate with the Annual Meeting at 12 noon\, Open House 1 to 4 p.m. with a presentation &quot\; Bridging Generations&quot\; by Abigail Hall\, Viterbo University WCHS Summer Intern at 2 p.m.. Treats will be available.
LOCATION:Reads Landing School Museum Reads Landing\, MN
UID:e.621.6774
SEQUENCE:3
DTSTAMP:20260421T164725Z
URL:https://public.lakecity.org/events/details/open-house-6774
END:VEVENT

END:VCALENDAR
