BEGIN:VCALENDAR
VERSION:2.0
PRODID:-//ChamberMaster//Event Calendar 2.0//EN
METHOD:PUBLISH
X-PUBLISHED-TTL:P3D
REFRESH-INTERVAL:P3D
CALSCALE:GREGORIAN
BEGIN:VEVENT
DTSTART:20140529T190000Z
DTEND:20140529T220000Z
X-MICROSOFT-CDO-ALLDAYEVENT:FALSE
SUMMARY:Open House at American Family Insurance
DESCRIPTION:Join us in wishing Glen Bunkowske and Diane Wenger all the best on their retirement\, and also to welcome your new American Family agent\, Jessica Nelson.
X-ALT-DESC;FMTTYPE=text/html:Join us in wishing Glen Bunkowske and Diane Wenger all the best on their retirement\, and also to welcome your new American Family agent\, Jessica Nelson.
LOCATION:100 W. Lyon Ave\, Suite 102 - Jessica Nelson Agency
UID:e.621.4012
SEQUENCE:3
DTSTAMP:20260425T191951Z
URL:https://public.lakecity.org/events/details/open-house-at-american-family-insurance-05-29-2014-4012
END:VEVENT

END:VCALENDAR
