BEGIN:VCALENDAR
VERSION:2.0
PRODID:-//ChamberMaster//Event Calendar 2.0//EN
METHOD:PUBLISH
X-PUBLISHED-TTL:P3D
REFRESH-INTERVAL:P3D
CALSCALE:GREGORIAN
BEGIN:VEVENT
DTSTART:20170624T123000Z
DTEND:20170624T163000Z
X-MICROSOFT-CDO-ALLDAYEVENT:FALSE
SUMMARY:Pancake Breakfast - Water Ski Days
DESCRIPTION:Pancake Breakfast will be held at the American Legion and is sponsored by the Wabasha County Republicans.
X-ALT-DESC;FMTTYPE=text/html:Pancake Breakfast will be held at the American Legion and is sponsored by the Wabasha County Republicans.
LOCATION:American Legion 224 S. Washington Street Lake City\, MN 55041
UID:e.621.5737
SEQUENCE:3
DTSTAMP:20260421T232849Z
URL:https://public.lakecity.org/events/details/pancake-breakfast-water-ski-days-5737
END:VEVENT

END:VCALENDAR
