BEGIN:VCALENDAR
VERSION:2.0
PRODID:-//ChamberMaster//Event Calendar 2.0//EN
METHOD:PUBLISH
X-PUBLISHED-TTL:P3D
REFRESH-INTERVAL:P3D
CALSCALE:GREGORIAN
BEGIN:VEVENT
DTSTART:20191013T010000Z
DTEND:20191013T030000Z
X-MICROSOFT-CDO-ALLDAYEVENT:FALSE
SUMMARY:Pat Donohue/Jerry Kosak Fingerstyle Guitar
DESCRIPTION:Fingerstyle Deluxe guitarists perform at MN favorite venue (Lake City\, MN) Saturday Oct. 12\, 2019 - 8:00 pm Grammy-winning guitarist Pat Donohue (Prairie Home Companion) teams up with eclectic guitarist Jerry Kosak to present a concert of acoustic fingerstyle and slide guitar at the landmark music venue Oak Center General Store in Lake City\, MN. The show will be Saturday\, Oct. 12th at 8:00 pm. Pat Donohue's devotion to acoustic guitar has made him an American standard\, as he echoes the tones of Robert Johnson\, Blind Blake\, Merle Travis or Muddy Waters. Chet Atkins called Pat one of the greatest fingerpickers in the world today\; Leo Kottke called his playing "haunting." https://www.patdonohue.com/ The solo acoustic guitar of Jerry Kosak has an intensity and expressiveness that goes beyond expectations. The sound of his guitar is immense\, yet articulate. Kosak's skill and command of the instrument is evident and his delivery of the music is honest. According to Kevin Barnes from KBEM Jazz88\, "This music is a great reflection of many different styles." http://jerrykosak.com/ Ticket information is available at http://oakcentergeneralstore.com/music You can follow Jerry at: https://www.facebook.com/JerryKosakGuitar/ https://twitter.com/jerry_kosak https://www.instagram.com/jerrykosak/?hl=en
X-ALT-DESC;FMTTYPE=text/html:Fingerstyle Deluxe guitarists perform at MN favorite venue (Lake City\, MN) Saturday Oct. 12\, 2019 - 8:00 pm Grammy-winning guitarist Pat Donohue (Prairie Home Companion) teams up with eclectic guitarist Jerry Kosak to present a concert of acoustic fingerstyle and slide guitar at the landmark music venue Oak Center General Store in Lake City\, MN. The show will be Saturday\, Oct. 12th at 8:00 pm. Pat Donohue&rsquo\;s devotion to acoustic guitar has made him an American standard\, as he echoes the tones of Robert Johnson\, Blind Blake\, Merle Travis or Muddy Waters. Chet Atkins called Pat one of the greatest fingerpickers in the world today\; Leo Kottke called his playing &ldquo\;haunting.&rdquo\; https://www.patdonohue.com/ The solo acoustic guitar of Jerry Kosak has an intensity and expressiveness that goes beyond expectations. The sound of his guitar is immense\, yet articulate. Kosak&rsquo\;s skill and command of the instrument is evident and his delivery of the music is honest. According to Kevin Barnes from KBEM Jazz88\, &ldquo\;This music is a great reflection of many different styles.&rdquo\; http://jerrykosak.com/ Ticket information is available at http://oakcentergeneralstore.com/music You can follow Jerry at: https://www.facebook.com/JerryKosakGuitar/ https://twitter.com/jerry_kosak https://www.instagram.com/jerrykosak/?hl=en
LOCATION:Oak Center General Store 67011 Hwy 63 Kale City\, MN 55041
UID:e.621.7637
SEQUENCE:3
DTSTAMP:20260425T145115Z
URL:https://public.lakecity.org/events/details/pat-donohue-jerry-kosak-fingerstyle-guitar-7637
END:VEVENT

END:VCALENDAR
