BEGIN:VCALENDAR
VERSION:2.0
PRODID:-//ChamberMaster//Event Calendar 2.0//EN
METHOD:PUBLISH
X-PUBLISHED-TTL:P3D
REFRESH-INTERVAL:P3D
CALSCALE:GREGORIAN
BEGIN:VEVENT
DTSTART:20170624T150000Z
DTEND:20170624T170000Z
X-MICROSOFT-CDO-ALLDAYEVENT:FALSE
SUMMARY:Penny Hunt - Water Ski Days
DESCRIPTION:Penny Hunt will be held at St. John's Lutheran School for ages 6 and under. This event is sponsored by Roots to Wings Learning Center.
X-ALT-DESC;FMTTYPE=text/html:Penny Hunt will be held at St. John&#39\;s Lutheran School for ages 6 and under. This event is sponsored by Roots to Wings Learning Center.
LOCATION:St. John's Lutheran School
UID:e.621.5739
SEQUENCE:3
DTSTAMP:20260421T232945Z
URL:https://public.lakecity.org/events/details/penny-hunt-water-ski-days-5739
END:VEVENT

END:VCALENDAR
