BEGIN:VCALENDAR
VERSION:2.0
PRODID:-//ChamberMaster//Event Calendar 2.0//EN
METHOD:PUBLISH
X-PUBLISHED-TTL:P3D
REFRESH-INTERVAL:P3D
CALSCALE:GREGORIAN
BEGIN:VEVENT
DTSTART:20150524T180000Z
DTEND:20150524T200000Z
X-MICROSOFT-CDO-ALLDAYEVENT:FALSE
SUMMARY:Pepie Presentation
DESCRIPTION:Pepie Presentation
X-ALT-DESC;FMTTYPE=text/html:Pepie Presentation
LOCATION:Lake Ciy City Hall City Council Chambers
UID:e.621.4450
SEQUENCE:3
DTSTAMP:20260425T002326Z
URL:https://public.lakecity.org/events/details/pepie-presentation-05-24-2015-4450
END:VEVENT

END:VCALENDAR
