BEGIN:VCALENDAR
VERSION:2.0
PRODID:-//ChamberMaster//Event Calendar 2.0//EN
METHOD:PUBLISH
X-PUBLISHED-TTL:P3D
REFRESH-INTERVAL:P3D
CALSCALE:GREGORIAN
BEGIN:VEVENT
DTSTART:20140531T130000Z
DTEND:20140531T160000Z
X-MICROSOFT-CDO-ALLDAYEVENT:FALSE
SUMMARY:Perennial Plant Sale
DESCRIPTION:Perennial Plant Sale\n\nLife Matters Here Fundraiser
X-ALT-DESC;FMTTYPE=text/html:Perennial Plant Sale<br />\nLife Matters Here Fundraiser
LOCATION:Care Center (outside front entrance) Mayo Clinic Health System in Lake City
UID:e.621.4032
SEQUENCE:3
DTSTAMP:20260425T191934Z
URL:https://public.lakecity.org/events/details/perennial-plant-sale-05-31-2014-4032
END:VEVENT

END:VCALENDAR
