BEGIN:VCALENDAR
VERSION:2.0
PRODID:-//ChamberMaster//Event Calendar 2.0//EN
METHOD:PUBLISH
X-PUBLISHED-TTL:P3D
REFRESH-INTERVAL:P3D
CALSCALE:GREGORIAN
BEGIN:VEVENT
DTSTART:20170211T160000Z
DTEND:20170211T180000Z
X-MICROSOFT-CDO-ALLDAYEVENT:FALSE
SUMMARY:Pioneer Jerky with Ed Stern!
DESCRIPTION:Learn how make pioneer jerky!
X-ALT-DESC;FMTTYPE=text/html:Learn how make pioneer jerky!
LOCATION:Lake City Public Library
UID:e.621.5668
SEQUENCE:3
DTSTAMP:20260422T055650Z
URL:https://public.lakecity.org/events/details/pioneer-jerky-with-ed-stern-5668
END:VEVENT

END:VCALENDAR
