BEGIN:VCALENDAR
VERSION:2.0
PRODID:-//ChamberMaster//Event Calendar 2.0//EN
METHOD:PUBLISH
X-PUBLISHED-TTL:P3D
REFRESH-INTERVAL:P3D
CALSCALE:GREGORIAN
BEGIN:VEVENT
DTSTART:20170207T003000Z
DTEND:20170207T013000Z
X-MICROSOFT-CDO-ALLDAYEVENT:FALSE
SUMMARY:Pioneer Life Storytime
DESCRIPTION:Listen to special pioneer-themed stories\; afterward\, enjoy a special storytime craft and make either a pioneer bonnet or cowboy hat.
X-ALT-DESC;FMTTYPE=text/html:Listen to special pioneer-themed stories\; afterward\, enjoy a special storytime craft and make either a pioneer bonnet or cowboy hat.
LOCATION:Lake City Public Library
UID:e.621.5665
SEQUENCE:3
DTSTAMP:20260422T055821Z
URL:https://public.lakecity.org/events/details/pioneer-life-storytime-5665
END:VEVENT

END:VCALENDAR
