BEGIN:VCALENDAR
VERSION:2.0
PRODID:-//ChamberMaster//Event Calendar 2.0//EN
METHOD:PUBLISH
X-PUBLISHED-TTL:P3D
REFRESH-INTERVAL:P3D
CALSCALE:GREGORIAN
BEGIN:VEVENT
DTSTART;VALUE=DATE:20141124
DTEND;VALUE=DATE:20141125
TRANSP:TRANSPARENT
X-MICROSOFT-CDO-ALLDAYEVENT:TRUE
SUMMARY:Pre-Thanksgiving
DESCRIPTION:Pre-Thanksgiving\, Thanks\nNoon to 5 Sat. Dec. 22nd  through Wed. Dec. 26th.  Free tastings of available wines\, live music (Sat. & Sun.)\, free food lots of fun.  Four miles north of Lake City across from Hansen's Harbor Marina on Hwy. 61.  Taste our wines\, nibble some food\, listen to some great live music\, buy some wine and have a great time.  Hope to see you there.\n\nJohn & the Team. (Heather\, Judy\, Tami\, Ray\, Kevin\, Tony)  :-)
X-ALT-DESC;FMTTYPE=text/html:<h1><big>Pre-Thanksgiving\, Thanks</big></h1>\nNoon to 5 Sat. Dec. 22nd&nbsp\; through Wed. Dec. 26th.&nbsp\; Free tastings of available wines\, live music (Sat. &amp\; Sun.)\, free food lots of fun.&nbsp\; Four miles north of Lake City across from Hansen&#39\;s Harbor Marina on Hwy. 61.&nbsp\; Taste our wines\, nibble some food\, listen to some great live music\, buy some wine and have a great time.&nbsp\; Hope to see you there.<br />\nJohn&nbsp\;&amp\; the Team. (Heather\, Judy\, Tami\, Ray\, Kevin\, Tony)&nbsp\; :-)<br />\n&nbsp\;
LOCATION:4 miles north of Lake City/12 miles south of Red Wing\, 1 mile south of Frontenac on Hwy. 61
UID:e.621.4325
SEQUENCE:3
DTSTAMP:20260425T111259Z
URL:https://public.lakecity.org/events/details/pre-thanksgiving-11-24-2014-4325
END:VEVENT

END:VCALENDAR
