BEGIN:VCALENDAR
VERSION:2.0
PRODID:-//ChamberMaster//Event Calendar 2.0//EN
METHOD:PUBLISH
X-PUBLISHED-TTL:P3D
REFRESH-INTERVAL:P3D
CALSCALE:GREGORIAN
BEGIN:VEVENT
DTSTART;VALUE=DATE:20141122
DTEND;VALUE=DATE:20141123
TRANSP:TRANSPARENT
X-MICROSOFT-CDO-ALLDAYEVENT:TRUE
SUMMARY:Pre-Thanksgiving - Thanks
DESCRIPTION:In thanks to all our great customers both local and regional Lake Pepin Winery is going to offer free tastings of our authentically local wines from Noon - 5 PM Saturday through Wed. noon to 5 PM.  (each day).  There will be live music on Saturday and Sunday 1-4 PM\, free or'dourves (while they last) each day and as usual\, lof of laughs and lots of fun.\n\nThis event will be our Thanksgiving to you for making our first full summer in business such a sales success and such a lot of fun.\n\nThe Staff\,\n\nJudy\, Heather\, Ray and John
X-ALT-DESC;FMTTYPE=text/html:In thanks to all our great customers both local and regional Lake Pepin Winery is going to offer free tastings of our authentically local wines&nbsp\;from Noon - 5 PM Saturday through Wed. noon to 5 PM.&nbsp\; (each day).&nbsp\; There will be live music on Saturday and Sunday 1-4 PM\, free or&#39\;dourves (while they last) each day and as usual\, lof of laughs and lots of fun.<br />\nThis event will be our Thanksgiving to you for making our first full summer in business such a sales success and such a lot of fun.<br />\nThe Staff\,<br />\nJudy\, Heather\, Ray and John
LOCATION:35680 Hwy 61\, Lake City\, MN 55041. in the winery tasting room
UID:e.621.4316
SEQUENCE:3
DTSTAMP:20260425T111350Z
URL:https://public.lakecity.org/events/details/pre-thanksgiving-thanks-11-22-2014-4316
END:VEVENT

END:VCALENDAR
