BEGIN:VCALENDAR
VERSION:2.0
PRODID:-//ChamberMaster//Event Calendar 2.0//EN
METHOD:PUBLISH
X-PUBLISHED-TTL:P3D
REFRESH-INTERVAL:P3D
CALSCALE:GREGORIAN
BEGIN:VEVENT
DTSTART:20161201T000000Z
DTEND:20161201T020000Z
X-MICROSOFT-CDO-ALLDAYEVENT:FALSE
SUMMARY:Puns\, Poems\, and Pranks with Bob Norberg
DESCRIPTION:Long before Lake City resident Bob Norberg's long tenure in the Middle East\, he began his writing career as an editor of a humor magazine at Iowa State. His humorous work has been on a Washington\, D.C.\, radio station\, in the Star-Tribune\, and in the Lake City Graphic. Join us fur an entertaining evening where Bob will share some of his most memorable and humorous letters\, puns\, pranks\, and poems.
X-ALT-DESC;FMTTYPE=text/html:Long before Lake City resident Bob Norberg&#39\;s long tenure in the Middle East\, he began his writing career as an editor of a humor magazine at Iowa State. His humorous work has been on a Washington\, D.C.\, radio station\, in the Star-Tribune\, and in the Lake City Graphic. Join us fur an entertaining evening where Bob will share some of his most memorable and humorous letters\, puns\, pranks\, and poems.
LOCATION:Lake City Public Library 201 South High Street Lake City\, MN 55041
UID:e.621.5489
SEQUENCE:3
DTSTAMP:20260422T101638Z
URL:https://public.lakecity.org/events/details/puns-poems-and-pranks-with-bob-norberg-5489
END:VEVENT

END:VCALENDAR
