BEGIN:VCALENDAR
VERSION:2.0
PRODID:-//ChamberMaster//Event Calendar 2.0//EN
METHOD:PUBLISH
X-PUBLISHED-TTL:P3D
REFRESH-INTERVAL:P3D
CALSCALE:GREGORIAN
BEGIN:VEVENT
DTSTART:20180327T213000Z
DTEND:20180328T010000Z
X-MICROSOFT-CDO-ALLDAYEVENT:FALSE
SUMMARY:Putting Lesson with Dan Diggins
DESCRIPTION:Local golf pro Dan Diggins is back at the Lake City Public Library offering local residents free putting lessons! Registration is required and space is limited\, so please contact the Lake City Public Library at (651) 345-4013 to reserve your spot! Youth: 4:30-6:00pm Adults: 6:30-8:00pm
X-ALT-DESC;FMTTYPE=text/html:Local golf pro Dan Diggins is back at the Lake City Public Library offering local residents free putting lessons! Registration is required and space is limited\, so please contact the Lake City Public Library at (651) 345-4013 to reserve your spot! Youth: 4:30-6:00pm Adults: 6:30-8:00pm
LOCATION:Lake City Public Library
UID:e.621.6840
SEQUENCE:3
DTSTAMP:20260421T083800Z
URL:https://public.lakecity.org/events/details/putting-lesson-with-dan-diggins-6840
END:VEVENT

END:VCALENDAR
